Package: chipenrich Version: 2.34.0 Command: /Library/Frameworks/R.framework/Resources/bin/R CMD check --install=check:chipenrich.install-out.txt --library=/Library/Frameworks/R.framework/Resources/library --no-vignettes --timings chipenrich_2.34.0.tar.gz StartedAt: 2025-11-18 03:57:16 -0500 (Tue, 18 Nov 2025) EndedAt: 2025-11-18 04:01:11 -0500 (Tue, 18 Nov 2025) EllapsedTime: 234.9 seconds RetCode: 0 Status: OK CheckDir: chipenrich.Rcheck Warnings: 0