Package: chimeraviz Version: 1.35.0 Command: /home/biocbuild/R/R/bin/R CMD check --install=check:chimeraviz.install-out.txt --library=/home/biocbuild/R/R/site-library --no-vignettes --timings chimeraviz_1.35.0.tar.gz StartedAt: 2025-10-17 07:13:16 -0000 (Fri, 17 Oct 2025) EndedAt: 2025-10-17 07:26:42 -0000 (Fri, 17 Oct 2025) EllapsedTime: 805.7 seconds RetCode: 0 Status: OK CheckDir: chimeraviz.Rcheck Warnings: 0