Package: chimeraviz Version: 1.35.0 Command: /Library/Frameworks/R.framework/Resources/bin/R CMD INSTALL chimeraviz StartedAt: 2025-10-19 15:44:22 -0400 (Sun, 19 Oct 2025) EndedAt: 2025-10-19 15:45:41 -0400 (Sun, 19 Oct 2025) EllapsedTime: 79.8 seconds RetCode: 0 Status: OK