Package: chimeraviz Version: 1.35.0 Command: /Library/Frameworks/R.framework/Resources/bin/R CMD check --install=check:chimeraviz.install-out.txt --library=/Library/Frameworks/R.framework/Resources/library --no-vignettes --timings chimeraviz_1.35.0.tar.gz StartedAt: 2025-10-19 21:01:01 -0400 (Sun, 19 Oct 2025) EndedAt: 2025-10-19 21:12:59 -0400 (Sun, 19 Oct 2025) EllapsedTime: 718.0 seconds RetCode: 0 Status: OK CheckDir: chimeraviz.Rcheck Warnings: 0