Package: chihaya Version: 1.10.0 Command: /home/biocbuild/R/R/bin/R CMD check --install=check:chihaya.install-out.txt --library=/home/biocbuild/R/R/site-library --no-vignettes --timings chihaya_1.10.0.tar.gz StartedAt: 2025-11-14 07:48:55 -0000 (Fri, 14 Nov 2025) EndedAt: 2025-11-14 07:51:58 -0000 (Fri, 14 Nov 2025) EllapsedTime: 183.1 seconds RetCode: 0 Status: WARNINGS CheckDir: chihaya.Rcheck Warnings: 1