Package: chihaya Version: 1.9.0 Command: /home/biocbuild/R/R/bin/R CMD build --keep-empty-dirs --no-resave-data chihaya StartedAt: 2025-10-20 22:39:28 -0000 (Mon, 20 Oct 2025) EndedAt: 2025-10-20 22:40:32 -0000 (Mon, 20 Oct 2025) EllapsedTime: 64.0 seconds RetCode: 0 Status: OK PackageFile: chihaya_1.9.0.tar.gz PackageFileSize: 284.3 KiB