Package: chevreulProcess Version: 1.1.2 Command: /home/biocbuild/R/R/bin/R CMD INSTALL chevreulProcess StartedAt: 2025-10-23 21:19:47 -0000 (Thu, 23 Oct 2025) EndedAt: 2025-10-23 21:20:57 -0000 (Thu, 23 Oct 2025) EllapsedTime: 69.4 seconds RetCode: 0 Status: OK