Package: chevreulProcess Version: 1.1.2 Command: /home/biocbuild/R/R/bin/R CMD check --install=check:chevreulProcess.install-out.txt --library=/home/biocbuild/R/R/site-library --no-vignettes --timings chevreulProcess_1.1.2.tar.gz StartedAt: 2025-10-21 06:25:51 -0000 (Tue, 21 Oct 2025) EndedAt: 2025-10-21 06:34:46 -0000 (Tue, 21 Oct 2025) EllapsedTime: 535.4 seconds RetCode: 0 Status: OK CheckDir: chevreulProcess.Rcheck Warnings: 0