Package: chevreulProcess Version: 1.1.2 Command: /home/biocbuild/bbs-3.22-bioc/R/bin/R CMD check --install=check:chevreulProcess.install-out.txt --library=/home/biocbuild/bbs-3.22-bioc/R/site-library --timings chevreulProcess_1.1.2.tar.gz StartedAt: 2025-10-22 22:07:47 -0400 (Wed, 22 Oct 2025) EndedAt: 2025-10-22 22:14:39 -0400 (Wed, 22 Oct 2025) EllapsedTime: 411.4 seconds RetCode: 0 Status: OK CheckDir: chevreulProcess.Rcheck Warnings: 0