Package: chevreulProcess Version: 1.1.2 Command: /Library/Frameworks/R.framework/Resources/bin/R CMD INSTALL chevreulProcess StartedAt: 2025-10-19 15:51:13 -0400 (Sun, 19 Oct 2025) EndedAt: 2025-10-19 15:52:27 -0400 (Sun, 19 Oct 2025) EllapsedTime: 73.4 seconds RetCode: 0 Status: OK