Package: chevreulProcess Version: 1.1.2 Command: /Library/Frameworks/R.framework/Resources/bin/R CMD check --install=check:chevreulProcess.install-out.txt --library=/Library/Frameworks/R.framework/Resources/library --no-vignettes --timings chevreulProcess_1.1.2.tar.gz StartedAt: 2025-10-19 21:00:46 -0400 (Sun, 19 Oct 2025) EndedAt: 2025-10-19 21:08:36 -0400 (Sun, 19 Oct 2025) EllapsedTime: 470.1 seconds RetCode: 0 Status: OK CheckDir: chevreulProcess.Rcheck Warnings: 0