Package: chevreulProcess Version: 1.1.2 Command: rm -rf chevreulProcess.buildbin-libdir && mkdir chevreulProcess.buildbin-libdir && /Users/biocbuild/BBS/utils/build-universal.sh chevreulProcess_1.1.2.tar.gz /Library/Frameworks/R.framework/Resources/bin/R chevreulProcess.buildbin-libdir StartedAt: 2025-10-20 03:00:59 -0400 (Mon, 20 Oct 2025) EndedAt: 2025-10-20 03:02:14 -0400 (Mon, 20 Oct 2025) EllapsedTime: 75.1 seconds RetCode: 0 Status: OK PackageFile: chevreulProcess_1.1.2.tgz PackageFileSize: 4.863 MiB