Package: chevreulProcess Version: 1.1.2 Command: /Library/Frameworks/R.framework/Resources/bin/R CMD INSTALL chevreulProcess StartedAt: 2025-10-19 15:29:38 -0400 (Sun, 19 Oct 2025) EndedAt: 2025-10-19 15:30:06 -0400 (Sun, 19 Oct 2025) EllapsedTime: 27.9 seconds RetCode: 0 Status: OK