Package: chevreulProcess Version: 1.1.2 Command: /Library/Frameworks/R.framework/Resources/bin/R CMD check --install=check:chevreulProcess.install-out.txt --library=/Library/Frameworks/R.framework/Resources/library --no-vignettes --timings chevreulProcess_1.1.2.tar.gz StartedAt: 2025-10-19 18:52:20 -0400 (Sun, 19 Oct 2025) EndedAt: 2025-10-19 18:55:01 -0400 (Sun, 19 Oct 2025) EllapsedTime: 160.7 seconds RetCode: 0 Status: OK CheckDir: chevreulProcess.Rcheck Warnings: 0