Package: cghMCR Version: 1.67.0 Command: /home/biocbuild/R/R/bin/R CMD check --install=check:cghMCR.install-out.txt --library=/home/biocbuild/R/R/site-library --no-vignettes --timings cghMCR_1.67.0.tar.gz StartedAt: 2025-10-21 06:24:11 -0000 (Tue, 21 Oct 2025) EndedAt: 2025-10-21 06:26:50 -0000 (Tue, 21 Oct 2025) EllapsedTime: 159.1 seconds RetCode: 0 Status: WARNINGS CheckDir: cghMCR.Rcheck Warnings: 1