Package: cghMCR Version: 1.67.0 Command: F:\biocbuild\bbs-3.22-bioc\R\bin\R.exe CMD check --no-multiarch --install=check:cghMCR.install-out.txt --library=F:\biocbuild\bbs-3.22-bioc\R\library --no-vignettes --timings cghMCR_1.67.0.tar.gz StartedAt: 2025-08-15 01:32:34 -0400 (Fri, 15 Aug 2025) EndedAt: 2025-08-15 01:35:10 -0400 (Fri, 15 Aug 2025) EllapsedTime: 155.8 seconds RetCode: 0 Status: WARNINGS CheckDir: cghMCR.Rcheck Warnings: 1