Package: cghMCR Version: 1.67.0 Command: rm -rf cghMCR.buildbin-libdir && mkdir cghMCR.buildbin-libdir && F:\biocbuild\bbs-3.22-bioc\R\bin\R.exe CMD INSTALL --build --library=cghMCR.buildbin-libdir cghMCR_1.67.0.tar.gz StartedAt: 2025-08-15 09:56:13 -0400 (Fri, 15 Aug 2025) EndedAt: 2025-08-15 09:57:20 -0400 (Fri, 15 Aug 2025) EllapsedTime: 67.0 seconds RetCode: 0 Status: OK PackageFile: cghMCR_1.67.0.zip PackageFileSize: 36.33 MiB