Package: cghMCR Version: 1.67.0 Command: /home/biocbuild/bbs-3.22-bioc/R/bin/R CMD INSTALL cghMCR StartedAt: 2025-10-20 15:27:24 -0400 (Mon, 20 Oct 2025) EndedAt: 2025-10-20 15:27:44 -0400 (Mon, 20 Oct 2025) EllapsedTime: 19.3 seconds RetCode: 0 Status: OK