Package: cghMCR Version: 1.67.0 Command: /home/biocbuild/bbs-3.22-bioc/R/bin/R CMD check --install=check:cghMCR.install-out.txt --library=/home/biocbuild/bbs-3.22-bioc/R/site-library --timings cghMCR_1.67.0.tar.gz StartedAt: 2025-10-20 21:58:05 -0400 (Mon, 20 Oct 2025) EndedAt: 2025-10-20 22:00:34 -0400 (Mon, 20 Oct 2025) EllapsedTime: 149.1 seconds RetCode: 0 Status: WARNINGS CheckDir: cghMCR.Rcheck Warnings: 1