Package: cghMCR Version: 1.67.0 Command: /Library/Frameworks/R.framework/Resources/bin/R CMD check --install=check:cghMCR.install-out.txt --library=/Library/Frameworks/R.framework/Resources/library --no-vignettes --timings cghMCR_1.67.0.tar.gz StartedAt: 2025-10-21 18:55:55 -0400 (Tue, 21 Oct 2025) EndedAt: 2025-10-21 18:56:47 -0400 (Tue, 21 Oct 2025) EllapsedTime: 51.6 seconds RetCode: 0 Status: WARNINGS CheckDir: cghMCR.Rcheck Warnings: 1