Package: cghMCR Version: 1.67.0 Command: rm -rf cghMCR.buildbin-libdir && mkdir cghMCR.buildbin-libdir && /Users/biocbuild/BBS/utils/build-universal.sh cghMCR_1.67.0.tar.gz /Library/Frameworks/R.framework/Resources/bin/R cghMCR.buildbin-libdir StartedAt: 2025-10-21 22:55:19 -0400 (Tue, 21 Oct 2025) EndedAt: 2025-10-21 22:55:34 -0400 (Tue, 21 Oct 2025) EllapsedTime: 14.5 seconds RetCode: 0 Status: OK PackageFile: cghMCR_1.67.0.tgz PackageFileSize: 37.03 MiB