Package: cfDNAPro Version: 1.15.0 Command: /home/biocbuild/R/R/bin/R CMD INSTALL cfDNAPro StartedAt: 2025-10-16 21:53:57 -0000 (Thu, 16 Oct 2025) EndedAt: 2025-10-16 21:54:41 -0000 (Thu, 16 Oct 2025) EllapsedTime: 43.9 seconds RetCode: 0 Status: OK