Package: cfDNAPro Version: 1.15.0 Command: /Library/Frameworks/R.framework/Resources/bin/R CMD INSTALL cfDNAPro StartedAt: 2025-10-19 15:34:56 -0400 (Sun, 19 Oct 2025) EndedAt: 2025-10-19 15:35:44 -0400 (Sun, 19 Oct 2025) EllapsedTime: 47.4 seconds RetCode: 0 Status: OK