Package: cfDNAPro Version: 1.15.0 Command: /Library/Frameworks/R.framework/Resources/bin/R CMD check --install=check:cfDNAPro.install-out.txt --library=/Library/Frameworks/R.framework/Resources/library --no-vignettes --timings cfDNAPro_1.15.0.tar.gz StartedAt: 2025-10-19 20:59:48 -0400 (Sun, 19 Oct 2025) EndedAt: 2025-10-19 21:04:36 -0400 (Sun, 19 Oct 2025) EllapsedTime: 288.5 seconds RetCode: 0 Status: WARNINGS CheckDir: cfDNAPro.Rcheck Warnings: 1