Package: cfDNAPro Version: 1.15.0 Command: /Library/Frameworks/R.framework/Resources/bin/R CMD INSTALL cfDNAPro StartedAt: 2025-10-22 15:19:42 -0400 (Wed, 22 Oct 2025) EndedAt: 2025-10-22 15:19:57 -0400 (Wed, 22 Oct 2025) EllapsedTime: 14.1 seconds RetCode: 0 Status: OK