Package: cfDNAPro Version: 1.15.0 Command: /Library/Frameworks/R.framework/Resources/bin/R CMD check --install=check:cfDNAPro.install-out.txt --library=/Library/Frameworks/R.framework/Resources/library --no-vignettes --timings cfDNAPro_1.15.0.tar.gz StartedAt: 2025-10-22 18:55:55 -0400 (Wed, 22 Oct 2025) EndedAt: 2025-10-22 18:57:33 -0400 (Wed, 22 Oct 2025) EllapsedTime: 98.2 seconds RetCode: 0 Status: WARNINGS CheckDir: cfDNAPro.Rcheck Warnings: 1