Package: censcyt Version: 1.17.0 Command: chmod a+r censcyt -R && F:\biocbuild\bbs-3.22-bioc\R\bin\R.exe CMD build --keep-empty-dirs --no-resave-data censcyt StartedAt: 2025-08-14 19:01:49 -0400 (Thu, 14 Aug 2025) EndedAt: 2025-08-14 19:03:37 -0400 (Thu, 14 Aug 2025) EllapsedTime: 108.0 seconds RetCode: 0 Status: OK PackageFile: censcyt_1.17.0.tar.gz PackageFileSize: 352.6 KiB