Package: censcyt Version: 1.17.0 Command: rm -rf censcyt.buildbin-libdir && mkdir censcyt.buildbin-libdir && F:\biocbuild\bbs-3.22-bioc\R\bin\R.exe CMD INSTALL --build --library=censcyt.buildbin-libdir censcyt_1.17.0.tar.gz StartedAt: 2025-08-15 09:55:50 -0400 (Fri, 15 Aug 2025) EndedAt: 2025-08-15 09:56:36 -0400 (Fri, 15 Aug 2025) EllapsedTime: 46.2 seconds RetCode: 0 Status: OK PackageFile: censcyt_1.17.0.zip PackageFileSize: 453.6 KiB