Package: censcyt Version: 1.17.0 Command: /home/biocbuild/bbs-3.22-bioc/R/bin/R CMD INSTALL censcyt StartedAt: 2025-10-27 15:25:51 -0400 (Mon, 27 Oct 2025) EndedAt: 2025-10-27 15:26:23 -0400 (Mon, 27 Oct 2025) EllapsedTime: 32.2 seconds RetCode: 0 Status: OK