Package: censcyt Version: 1.17.0 Command: /home/biocbuild/bbs-3.22-bioc/R/bin/R CMD check --install=check:censcyt.install-out.txt --library=/home/biocbuild/bbs-3.22-bioc/R/site-library --timings censcyt_1.17.0.tar.gz StartedAt: 2025-10-27 21:55:22 -0400 (Mon, 27 Oct 2025) EndedAt: 2025-10-27 22:00:51 -0400 (Mon, 27 Oct 2025) EllapsedTime: 329.4 seconds RetCode: 0 Status: OK CheckDir: censcyt.Rcheck Warnings: 0