Package: censcyt Version: 1.17.0 Command: /Library/Frameworks/R.framework/Resources/bin/R CMD INSTALL censcyt StartedAt: 2025-10-24 15:31:38 -0400 (Fri, 24 Oct 2025) EndedAt: 2025-10-24 15:32:23 -0400 (Fri, 24 Oct 2025) EllapsedTime: 44.8 seconds RetCode: 0 Status: OK