Package: censcyt Version: 1.17.0 Command: rm -rf censcyt.buildbin-libdir && mkdir censcyt.buildbin-libdir && /Users/biocbuild/BBS/utils/build-universal.sh censcyt_1.17.0.tar.gz /Library/Frameworks/R.framework/Resources/bin/R censcyt.buildbin-libdir StartedAt: 2025-10-25 01:31:56 -0400 (Sat, 25 Oct 2025) EndedAt: 2025-10-25 01:32:44 -0400 (Sat, 25 Oct 2025) EllapsedTime: 48.6 seconds RetCode: 0 Status: OK PackageFile: censcyt_1.17.0.tgz PackageFileSize: 607.9 KiB