Package: cellxgenedp Version: 1.13.1 Command: /home/biocbuild/R/R/bin/R CMD INSTALL cellxgenedp StartedAt: 2025-10-23 20:26:17 -0000 (Thu, 23 Oct 2025) EndedAt: 2025-10-23 20:26:39 -0000 (Thu, 23 Oct 2025) EllapsedTime: 22.1 seconds RetCode: 0 Status: OK