############################################################################## ############################################################################## ### ### Running command: ### ### chmod a+r cellxgenedp -R && F:\biocbuild\bbs-3.22-bioc\R\bin\R.exe CMD build --keep-empty-dirs --no-resave-data cellxgenedp ### ############################################################################## ############################################################################## * checking for file 'cellxgenedp/DESCRIPTION' ... OK * preparing 'cellxgenedp': * checking DESCRIPTION meta-information ... OK * installing the package to build vignettes * creating vignettes ... OK * checking for LF line-endings in source and make files and shell scripts * checking for empty or unneeded directories NB: this package now depends on R (>= 4.1.0) WARNING: Added dependency on R >= 4.1.0 because package code uses the pipe |> or function shorthand \(...) syntax added in R 4.1.0. File(s) using such syntax: 'cellxgene.R' 'cxg.R' 'datasets.R' 'db.R' 'facets.R' 'facets.Rd' 'keys.R' 'publisher_metadata.R' 'query.Rd' * building 'cellxgenedp_1.13.1.tar.gz'