Package: cellxgenedp Version: 1.13.1 Command: /home/biocbuild/bbs-3.22-bioc/R/bin/R CMD INSTALL cellxgenedp StartedAt: 2025-10-22 15:09:03 -0400 (Wed, 22 Oct 2025) EndedAt: 2025-10-22 15:09:10 -0400 (Wed, 22 Oct 2025) EllapsedTime: 7.2 seconds RetCode: 0 Status: OK