Package: cellxgenedp Version: 1.13.1 Command: /Library/Frameworks/R.framework/Resources/bin/R CMD check --install=check:cellxgenedp.install-out.txt --library=/Library/Frameworks/R.framework/Resources/library --no-vignettes --timings cellxgenedp_1.13.1.tar.gz StartedAt: 2025-10-23 19:58:34 -0400 (Thu, 23 Oct 2025) EndedAt: 2025-10-23 20:01:14 -0400 (Thu, 23 Oct 2025) EllapsedTime: 159.9 seconds RetCode: 0 Status: OK CheckDir: cellxgenedp.Rcheck Warnings: 0