Package: cellxgenedp Version: 1.13.1 Command: /Library/Frameworks/R.framework/Resources/bin/R CMD build --keep-empty-dirs --no-resave-data cellxgenedp StartedAt: 2025-10-23 16:20:36 -0400 (Thu, 23 Oct 2025) EndedAt: 2025-10-23 16:22:31 -0400 (Thu, 23 Oct 2025) EllapsedTime: 114.2 seconds RetCode: 0 Status: OK PackageFile: cellxgenedp_1.13.1.tar.gz PackageFileSize: 472 KiB