Package: cellxgenedp Version: 1.13.1 Command: /Library/Frameworks/R.framework/Resources/bin/R CMD INSTALL cellxgenedp StartedAt: 2025-10-24 15:07:48 -0400 (Fri, 24 Oct 2025) EndedAt: 2025-10-24 15:07:51 -0400 (Fri, 24 Oct 2025) EllapsedTime: 3.1 seconds RetCode: 0 Status: OK