Package: cellxgenedp Version: 1.13.1 Command: /Library/Frameworks/R.framework/Resources/bin/R CMD check --install=check:cellxgenedp.install-out.txt --library=/Library/Frameworks/R.framework/Resources/library --no-vignettes --timings cellxgenedp_1.13.1.tar.gz StartedAt: 2025-10-24 18:54:35 -0400 (Fri, 24 Oct 2025) EndedAt: 2025-10-24 18:55:29 -0400 (Fri, 24 Oct 2025) EllapsedTime: 53.8 seconds RetCode: 0 Status: OK CheckDir: cellxgenedp.Rcheck Warnings: 0