Package: cellxgenedp Version: 1.13.1 Command: rm -rf cellxgenedp.buildbin-libdir && mkdir cellxgenedp.buildbin-libdir && /Users/biocbuild/BBS/utils/build-universal.sh cellxgenedp_1.13.1.tar.gz /Library/Frameworks/R.framework/Resources/bin/R cellxgenedp.buildbin-libdir StartedAt: 2025-10-24 22:57:02 -0400 (Fri, 24 Oct 2025) EndedAt: 2025-10-24 22:57:05 -0400 (Fri, 24 Oct 2025) EllapsedTime: 3.1 seconds RetCode: 0 Status: OK PackageFile: cellxgenedp_1.13.1.tgz PackageFileSize: 506.1 KiB