Package: cellmigRation Version: 1.18.0 Command: /home/biocbuild/bbs-3.22-bioc/R/bin/R CMD INSTALL cellmigRation StartedAt: 2025-11-17 17:07:39 -0500 (Mon, 17 Nov 2025) EndedAt: 2025-11-17 17:07:54 -0500 (Mon, 17 Nov 2025) EllapsedTime: 15.4 seconds RetCode: 0 Status: OK