Package: cellmigRation Version: 1.18.0 Command: /Library/Frameworks/R.framework/Resources/bin/R CMD build --keep-empty-dirs --no-resave-data cellmigRation StartedAt: 2025-11-17 19:42:13 -0500 (Mon, 17 Nov 2025) EndedAt: 2025-11-17 19:43:06 -0500 (Mon, 17 Nov 2025) EllapsedTime: 53.4 seconds RetCode: 0 Status: OK PackageFile: cellmigRation_1.18.0.tar.gz PackageFileSize: 1.364 MiB