Package: cellmig Version: 1.0.0 Command: /Library/Frameworks/R.framework/Resources/bin/R CMD check --install=check:cellmig.install-out.txt --library=/Library/Frameworks/R.framework/Resources/library --no-vignettes --timings cellmig_1.0.0.tar.gz StartedAt: 2025-11-03 20:04:17 -0500 (Mon, 03 Nov 2025) EndedAt: 2025-11-03 20:14:03 -0500 (Mon, 03 Nov 2025) EllapsedTime: 585.3 seconds RetCode: 0 Status: OK CheckDir: cellmig.Rcheck Warnings: 0