Package: cellmig Version: 1.0.0 Command: /Library/Frameworks/R.framework/Resources/bin/R CMD build --keep-empty-dirs --no-resave-data cellmig StartedAt: 2025-11-03 16:23:21 -0500 (Mon, 03 Nov 2025) EndedAt: 2025-11-03 16:31:36 -0500 (Mon, 03 Nov 2025) EllapsedTime: 495.9 seconds RetCode: 0 Status: OK PackageFile: cellmig_1.0.0.tar.gz PackageFileSize: 5.025 MiB