Package: cellmig Version: 1.0.0 Command: rm -rf cellmig.buildbin-libdir && mkdir cellmig.buildbin-libdir && /Users/biocbuild/BBS/utils/build-universal.sh cellmig_1.0.0.tar.gz /Library/Frameworks/R.framework/Resources/bin/R cellmig.buildbin-libdir StartedAt: 2025-11-04 01:31:36 -0500 (Tue, 04 Nov 2025) EndedAt: 2025-11-04 01:35:03 -0500 (Tue, 04 Nov 2025) EllapsedTime: 207.0 seconds RetCode: 0 Status: OK PackageFile: cellmig_1.0.0.tgz PackageFileSize: 6.004 MiB