Package: cellbaseR Version: 1.33.0 Command: F:\biocbuild\bbs-3.22-bioc\R\bin\R.exe CMD check --no-multiarch --install=check:cellbaseR.install-out.txt --library=F:\biocbuild\bbs-3.22-bioc\R\library --no-vignettes --timings cellbaseR_1.33.0.tar.gz StartedAt: 2025-08-15 01:26:39 -0400 (Fri, 15 Aug 2025) EndedAt: 2025-08-15 01:29:11 -0400 (Fri, 15 Aug 2025) EllapsedTime: 151.3 seconds RetCode: 0 Status: OK CheckDir: cellbaseR.Rcheck Warnings: 0