Package: celda Version: 1.25.0 Command: F:\biocbuild\bbs-3.22-bioc\R\bin\R.exe CMD check --no-multiarch --install=check:celda.install-out.txt --library=F:\biocbuild\bbs-3.22-bioc\R\library --no-vignettes --timings celda_1.25.0.tar.gz StartedAt: 2025-08-15 01:26:30 -0400 (Fri, 15 Aug 2025) EndedAt: 2025-08-15 01:38:03 -0400 (Fri, 15 Aug 2025) EllapsedTime: 692.9 seconds RetCode: 0 Status: OK CheckDir: celda.Rcheck Warnings: 0