Package: celda Version: 1.25.0 Command: /home/biocbuild/bbs-3.22-bioc/R/bin/R CMD INSTALL celda StartedAt: 2025-10-17 15:54:05 -0400 (Fri, 17 Oct 2025) EndedAt: 2025-10-17 15:55:12 -0400 (Fri, 17 Oct 2025) EllapsedTime: 67.1 seconds RetCode: 0 Status: OK