Package: celda Version: 1.25.0 Command: /Library/Frameworks/R.framework/Resources/bin/R CMD check --install=check:celda.install-out.txt --library=/Library/Frameworks/R.framework/Resources/library --no-vignettes --timings celda_1.25.0.tar.gz StartedAt: 2025-10-19 20:55:34 -0400 (Sun, 19 Oct 2025) EndedAt: 2025-10-19 21:05:44 -0400 (Sun, 19 Oct 2025) EllapsedTime: 610.1 seconds RetCode: 0 Status: OK CheckDir: celda.Rcheck Warnings: 0