Package: celda Version: 1.25.0 Command: rm -rf celda.buildbin-libdir && mkdir celda.buildbin-libdir && /Users/biocbuild/BBS/utils/build-universal.sh celda_1.25.0.tar.gz /Library/Frameworks/R.framework/Resources/bin/R celda.buildbin-libdir StartedAt: 2025-10-20 03:00:16 -0400 (Mon, 20 Oct 2025) EndedAt: 2025-10-20 03:01:45 -0400 (Mon, 20 Oct 2025) EllapsedTime: 88.9 seconds RetCode: 0 Status: OK PackageFile: celda_1.25.0.tgz PackageFileSize: 3.439 MiB